BEGIN:VCALENDAR
VERSION:2.0
PRODID:-// - ECPv6.15.17.1//NONSGML v1.0//EN
CALSCALE:GREGORIAN
METHOD:PUBLISH
X-ORIGINAL-URL:https://4dewi.com
X-WR-CALDESC:Events for 
REFRESH-INTERVAL;VALUE=DURATION:PT1H
X-Robots-Tag:noindex
X-PUBLISHED-TTL:PT1H
BEGIN:VTIMEZONE
TZID:Europe/London
BEGIN:DAYLIGHT
TZOFFSETFROM:+0000
TZOFFSETTO:+0100
TZNAME:BST
DTSTART:20250330T010000
END:DAYLIGHT
BEGIN:STANDARD
TZOFFSETFROM:+0100
TZOFFSETTO:+0000
TZNAME:GMT
DTSTART:20251026T010000
END:STANDARD
BEGIN:DAYLIGHT
TZOFFSETFROM:+0000
TZOFFSETTO:+0100
TZNAME:BST
DTSTART:20260329T010000
END:DAYLIGHT
BEGIN:STANDARD
TZOFFSETFROM:+0100
TZOFFSETTO:+0000
TZNAME:GMT
DTSTART:20261025T010000
END:STANDARD
BEGIN:DAYLIGHT
TZOFFSETFROM:+0000
TZOFFSETTO:+0100
TZNAME:BST
DTSTART:20270328T010000
END:DAYLIGHT
BEGIN:STANDARD
TZOFFSETFROM:+0100
TZOFFSETTO:+0000
TZNAME:GMT
DTSTART:20271031T010000
END:STANDARD
END:VTIMEZONE
BEGIN:VEVENT
DTSTART;TZID=Europe/London:20260320T183000
DTEND;TZID=Europe/London:20260320T210000
DTSTAMP:20260421T141006
CREATED:20260223T072507Z
LAST-MODIFIED:20260223T072508Z
UID:194-1774031400-1774040400@4dewi.com
SUMMARY:Wreath Making Fundraiser
DESCRIPTION:On 20th March 2026\, we’re excited to host our first Wreath Making Fundraiser of the year at Beddau Rugby Football Club\, starting at 18:30.\n\nThis event is always one of our most popular get‑togethers — a brilliant chance to have fun\, learn new craft skills\, enjoy a drink and a chat\, and support our work in the community at the same time.\n\nA limited number of tickets are available from £17.50\, so be sure to secure your place early. If you can’t make this date\, you can also register your interest for our next wreath making session later in the year by completing the RSVP section.\n\nIf you’re able\, please consider making a donation — every contribution helps us continue delivering projects and support for our community.
URL:https://4dewi.com/event/wreath-making-fundraiser/
LOCATION:Baddau RFC\, The Clubhouse\, Beddau RFC\, Castellau Rd\, Beddau\,\, Pontypridd\, CF38 2AA\, United Kingdom
CATEGORIES:Fundraising
ATTACH;FMTTYPE=image/jpeg:https://4dewi.com/wp-content/uploads/2026/02/488659254_122146055648487003_3727264198076097266_n-1.jpg
ORGANIZER;CN="4 Dewi":MAILTO:office@4dewi.com
END:VEVENT
END:VCALENDAR