BEGIN:VCALENDAR
VERSION:2.0
PRODID:-// - ECPv6.15.17.1//NONSGML v1.0//EN
CALSCALE:GREGORIAN
METHOD:PUBLISH
X-ORIGINAL-URL:https://4dewi.com
X-WR-CALDESC:Events for 
REFRESH-INTERVAL;VALUE=DURATION:PT1H
X-Robots-Tag:noindex
X-PUBLISHED-TTL:PT1H
BEGIN:VTIMEZONE
TZID:Europe/London
BEGIN:DAYLIGHT
TZOFFSETFROM:+0000
TZOFFSETTO:+0100
TZNAME:BST
DTSTART:20250330T010000
END:DAYLIGHT
BEGIN:STANDARD
TZOFFSETFROM:+0100
TZOFFSETTO:+0000
TZNAME:GMT
DTSTART:20251026T010000
END:STANDARD
BEGIN:DAYLIGHT
TZOFFSETFROM:+0000
TZOFFSETTO:+0100
TZNAME:BST
DTSTART:20260329T010000
END:DAYLIGHT
BEGIN:STANDARD
TZOFFSETFROM:+0100
TZOFFSETTO:+0000
TZNAME:GMT
DTSTART:20261025T010000
END:STANDARD
BEGIN:DAYLIGHT
TZOFFSETFROM:+0000
TZOFFSETTO:+0100
TZNAME:BST
DTSTART:20270328T010000
END:DAYLIGHT
BEGIN:STANDARD
TZOFFSETFROM:+0100
TZOFFSETTO:+0000
TZNAME:GMT
DTSTART:20271031T010000
END:STANDARD
END:VTIMEZONE
BEGIN:VEVENT
DTSTART;TZID=Europe/London:20260502T000000
DTEND;TZID=Europe/London:20260502T235959
DTSTAMP:20260421T123509
CREATED:20260223T072141Z
LAST-MODIFIED:20260312T151306Z
UID:189-1777680000-1777766399@4dewi.com
SUMMARY:Leigh's Skydive
DESCRIPTION:On 7th March\, Dewi’s father will be taking on an incredible challenge — jumping 10\,000 feet above Swansea in his very first parachute jump\, all to raise vital funds for our charity.\n\nEvery donation will help us continue our mission to raise awareness around Mind Health\, and to reinvest back into our community through projects and initiatives that support people who are struggling and empower others to make a difference.\n\nLeigh is thrilled that this marks the first event in our 2026 calendar\, as well as our first official fundraising campaign since becoming a registered charity and launching our brand-new website.\n\nIf you’re able to support\, no matter how big or small\, please consider making a donation. Your generosity will help us create meaningful change throughout the year.
URL:https://4dewi.com/event/leighs-skydive/
LOCATION:Swansea Skydive\, United Kingdom
CATEGORIES:Fundraising
ATTACH;FMTTYPE=image/jpeg:https://4dewi.com/wp-content/uploads/2026/02/7257691857673165282.jpg
ORGANIZER;CN="4 Dewi":MAILTO:office@4dewi.com
END:VEVENT
BEGIN:VEVENT
DTSTART;TZID=Europe/London:20260711T000000
DTEND;TZID=Europe/London:20260711T235959
DTSTAMP:20260421T123509
CREATED:20260223T072834Z
LAST-MODIFIED:20260223T072834Z
UID:201-1783728000-1783814399@4dewi.com
SUMMARY:Jason & Chris huge cycling adventure
DESCRIPTION:We’re excited to share another incredible fundraising challenge — and this one’s an absolute epic!\n\nOn 11th July 2026\, local lads Jason Scanlon (from Beddau) and Chris Morgan (from Llantwit Fardre)\, both proud members of Beddau Bike Club\, will be taking on a huge cycling adventure to raise funds for our charity.\n\nThey’ll be setting off from Beddau RFC and riding all the way to North Wales\, tackling some of the toughest and most scenic routes in the country\, including:\n• Brecon\n• Rhayader\n• The iconic Llanberis Pass\nIn total\, they’ll take on:\n• 180 miles\n• 12\,000 ft of climbing\n• Around 15 hours on the road\nThis is an extraordinary effort\, and we’re incredibly grateful to Jason and Chris for taking on such a demanding challenge in support of our work.\nIf you’re able\, please consider donating to cheer them on and help us continue supporting our community. Every contribution truly makes a difference.\n\nDonate today: https://donorbox.org/4-dewi?
URL:https://4dewi.com/event/jason-chris-huge-cycling-adventure/
LOCATION:Brecon
CATEGORIES:Fundraising
ATTACH;FMTTYPE=image/jpeg:https://4dewi.com/wp-content/uploads/2026/02/6715731036420964807.jpg
END:VEVENT
BEGIN:VEVENT
DTSTART;TZID=Europe/London:20260719T000000
DTEND;TZID=Europe/London:20260719T235959
DTSTAMP:20260421T123509
CREATED:20260306T151522Z
LAST-MODIFIED:20260406T071136Z
UID:316-1784419200-1784505599@4dewi.com
SUMMARY:Join Us for the Taff Trail Challenge: Walking for Mind Health on 19th July 2026!
DESCRIPTION:At 4 Dewi Mind Health Matters\, we’re dedicated to supporting mental wellness\, raising awareness\, providing resources\, and fostering community connections for those facing mental health challenges in our local community and beyond. \nWe’re excited to launch another major fundraising event: a charity walk along the iconic Taff Trail! \nOn Saturday19th July 2026\, members of our team are planning to tackle the full 55-mile Taff Trail\, starting in the charming market town of Brecon and heading south to finish in vibrant Cardiff Bay. This epic journey raises essential funds for our Community Benefit Fund projects. \nThe Taff Trail is a stunning\, mostly traffic-free route that follows the River Taff through dramatic landscapes\, historic sites\, and peaceful green spaces. Highlights along the way (from north to south) include: \n\nBeginning in Brecon\, with its historic cathedral\, market town charm\, and immediate entry into the breathtaking Brecon Beacons National Park — featuring crystal-clear reservoirs like Talybont\, forested paths\, and sweeping mountain views.\nPassing through scenic areas around Pontsticill and Merthyr Tydfil\, with industrial heritage reminders and peaceful riverside walking.\nThe fairy-tale Castell Coch (Red Castle) near Tongwynlais — a stunning Victorian Gothic castle set against wooded hillsides.\nUrban green spaces in Pontypridd and Cardiff\, leading through parks like Pontcanna Fields and Sophia Gardens before arriving at the waterfront finish in Cardiff Bay\n\nAnyone is welcome to join for specific meeting points along the way and just put in a few miles to show support and walk together. \nMore details coming soon\, including: \n\nExact start time (likely early morning in Brecon for a full-day pace).\nKey meeting points for shorter sections.\nSafety info\, rest stops\, and a support vehicle for the full route (with water\, snacks\, and transport for bags/drop-offs).\nGPX files for navigation (downloadable from our site for your devices)\nFundraising targets and progress tracking:\n\nTo get involved: \n\nRegister your interest\nRegistered participants will receive updates\, sponsorship packs\, joining instructions\, GPX links\, and vehicle/support details closer to the date.\nSet up your own fundraising page\, sponsor a walker\, or donate directly to help us make a real difference in mental health support.\n\nEvery mile walked helps break the stigma and provides vital resources for our community. Let’s step out together for hope\, connection\, and better mental wellbeing! \nThank you for your support — see you on the trail. \nWith gratitude\, \nThe 4 Dewi Mind Health Matters Team \n#MentalHealthMatters #TaffTrailChallenge #WalkForWellbeing
URL:https://4dewi.com/event/join-us-for-the-taff-trail-challenge-walking-for-mental-health-on-27th-june-2026/
LOCATION:Brecon\, Libanus\, Powys\, Brecon\, LD3 8ER\, United Kingdom
CATEGORIES:Fundraising
ATTACH;FMTTYPE=image/png:https://4dewi.com/wp-content/uploads/2026/03/thetafftrail.png
ORGANIZER;CN="4 Dewi":MAILTO:office@4dewi.com
END:VEVENT
END:VCALENDAR